BEGIN:VCALENDAR
VERSION:2.0
PRODID:hinto.net
X-PUBLISHED-TTL:P1W
BEGIN:VEVENT
UID:hinto.net-event_show-6818031
DTSTART:20260430T121500
SEQUENCE:0
CREATED:20260315T035252
LAST-MODIFIED:20260315T035252
TRANSP:OPAQUE

LOCATION:Vorarlberg Museum
SUMMARY:Konzert am Mittag
CLASS:PUBLIC
DESCRIPTION:
ORGANIZER:
DTSTAMP:20260420T095110
ATTACH:https://www.hinto.ch/de/events/konzert-am-mittag-30-04-2026-1215-vorarlberg-museum-bregenz-e2755968-20.html
END:VEVENT
END:VCALENDAR
