BEGIN:VCALENDAR
VERSION:2.0
PRODID:hinto.net
X-PUBLISHED-TTL:P1W
BEGIN:VEVENT
UID:hinto.net-event_show-6826050
DTSTART:20260419T190000
SEQUENCE:0
CREATED:20260318T045851
LAST-MODIFIED:20260318T045851
TRANSP:OPAQUE

LOCATION:Kath. Kirche St. Stephan
SUMMARY:Konzerte St. Stephan Therwil: Ensemble Volks/Lied/Kunst
CLASS:PUBLIC
DESCRIPTION:
ORGANIZER:
DTSTAMP:20260421T041200
ATTACH:https://www.hinto.ch/de/events/konzerte-st-stephan-therwil-ensemble-volksliedkunst-19-04-2026-1900-kath-kirche-st-stephan-therwil-e2732008-20.html
END:VEVENT
END:VCALENDAR
