BEGIN:VCALENDAR
VERSION:2.0
PRODID:hinto.net
X-PUBLISHED-TTL:P1W
BEGIN:VEVENT
UID:hinto.net-event_show-6803609
DTSTART:20261030T110000
SEQUENCE:0
CREATED:20260311T050413
LAST-MODIFIED:20260311T050413
TRANSP:OPAQUE

LOCATION:Zentrum Paul Klee
SUMMARY:Kosmos Klee. Die Sammlung
CLASS:PUBLIC
DESCRIPTION:
ORGANIZER:
DTSTAMP:20260420T221406
ATTACH:https://www.hinto.ch/de/events/kosmos-klee-die-sammlung-30-10-2026-1100-zentrum-paul-klee-bern-e1747584-20.html
END:VEVENT
END:VCALENDAR
