BEGIN:VCALENDAR
VERSION:2.0
PRODID:hinto.net
X-PUBLISHED-TTL:P1W
BEGIN:VEVENT
UID:hinto.net-event_show-6925318
DTSTART:20260424T201500
SEQUENCE:0
CREATED:20260419T052150
LAST-MODIFIED:20260419T052150
TRANSP:OPAQUE

LOCATION:CineMovie
SUMMARY:KULTFRIDAYS: PRIDE AND PREJUDICE
CLASS:PUBLIC
DESCRIPTION:
ORGANIZER:
DTSTAMP:20260424T071210
ATTACH:https://www.hinto.ch/de/events/kultfridays-pride-and-prejudice-24-04-2026-2015-cinemovie-bern-e2847408-20.html
END:VEVENT
END:VCALENDAR
