BEGIN:VCALENDAR
VERSION:2.0
PRODID:hinto.net
X-PUBLISHED-TTL:P1W
BEGIN:VEVENT
UID:hinto.net-event_show-6921577
DTSTART:20260709T140000
SEQUENCE:0
CREATED:20260417T070940
LAST-MODIFIED:20260417T070940
TRANSP:OPAQUE
DTEND:20260709T000000
LOCATION:Chipperfield-Bau, Helpdesk
SUMMARY:Kunst erzählen
CLASS:PUBLIC
DESCRIPTION:
ORGANIZER:
DTSTAMP:20260424T185554
ATTACH:https://www.hinto.ch/de/events/kunst-erzaehlen-09-07-2026-1400-chipperfield-bau-helpdesk-zuerich-e1966734-20.html
END:VEVENT
END:VCALENDAR
