BEGIN:VCALENDAR
VERSION:2.0
PRODID:hinto.net
X-PUBLISHED-TTL:P1W
BEGIN:VEVENT
UID:hinto.net-event_show-6871687
DTSTART:20260419T000000
SEQUENCE:0
CREATED:20260402T040539
LAST-MODIFIED:20260402T040539
TRANSP:OPAQUE
DTEND:20260419T005422
LOCATION:
SUMMARY:La 1: Astrid e Raphaëlle - La forza della verità
CLASS:PUBLIC
DESCRIPTION:
ORGANIZER:
DTSTAMP:20260419T210257
ATTACH:https://www.hinto.ch/de/events/la-1-astrid-e-raphaelle-la-forza-della-verita-19-04-2026-0000-e2800091-20.html
END:VEVENT
END:VCALENDAR
