BEGIN:VCALENDAR
VERSION:2.0
PRODID:hinto.net
X-PUBLISHED-TTL:P1W
BEGIN:VEVENT
UID:hinto.net-event_show-6862695
DTSTART:20260419T190000
SEQUENCE:0
CREATED:20260418T064747
LAST-MODIFIED:20260418T064747
TRANSP:OPAQUE
DTEND:20260419T191126
LOCATION:
SUMMARY:La 1: Il Quotidiano
CLASS:PUBLIC
DESCRIPTION:
ORGANIZER:
DTSTAMP:20260420T071510
ATTACH:https://www.hinto.ch/de/events/la-1-il-quotidiano-19-04-2026-1900-e2793311-20.html
END:VEVENT
END:VCALENDAR
