BEGIN:VCALENDAR
VERSION:2.0
PRODID:hinto.net
X-PUBLISHED-TTL:P1W
BEGIN:VEVENT
UID:hinto.net-event_show-6881534
DTSTART:20260417T005500
SEQUENCE:0
CREATED:20260404T192604
LAST-MODIFIED:20260404T192604
TRANSP:OPAQUE
DTEND:20260417T021728
LOCATION:
SUMMARY:La 2: Amore a Harmony Ranch
CLASS:PUBLIC
DESCRIPTION:
ORGANIZER:
DTSTAMP:20260419T191459
ATTACH:https://www.hinto.ch/de/events/la-2-amore-a-harmony-ranch-17-04-2026-0055-e2809252-20.html
END:VEVENT
END:VCALENDAR
