BEGIN:VCALENDAR
VERSION:2.0
PRODID:hinto.net
X-PUBLISHED-TTL:P1W
BEGIN:VEVENT
UID:hinto.net-event_show-6919458
DTSTART:20260419T121000
SEQUENCE:0
CREATED:20260417T042528
LAST-MODIFIED:20260417T042528
TRANSP:OPAQUE
DTEND:20260419T145804
LOCATION:
SUMMARY:La 2: Tutti insieme appassionatamente
CLASS:PUBLIC
DESCRIPTION:
ORGANIZER:
DTSTAMP:20260419T232450
ATTACH:https://www.hinto.ch/de/events/la-2-tutti-insieme-appassionatamente-19-04-2026-1210-e2842415-20.html
END:VEVENT
END:VCALENDAR
