BEGIN:VCALENDAR
VERSION:2.0
PRODID:hinto.net
X-PUBLISHED-TTL:P1W
BEGIN:VEVENT
UID:hinto.net-event_show-6221176
DTSTART:20260808T140000
SEQUENCE:0
CREATED:20250903T094211
LAST-MODIFIED:20250903T094211
TRANSP:OPAQUE
DTEND:20260808T060000
LOCATION:
SUMMARY:La Plage des Six Pompes
CLASS:PUBLIC
DESCRIPTION:
ORGANIZER:
DTSTAMP:20260424T052540
ATTACH:https://www.hinto.ch/de/events/la-plage-des-six-pompes-08-08-2026-1400-la-chaux-de-fonds-e186110-20.html
END:VEVENT
END:VCALENDAR
