BEGIN:VCALENDAR
VERSION:2.0
PRODID:hinto.net
X-PUBLISHED-TTL:P1W
BEGIN:VEVENT
UID:hinto.net-event_show-6725831
DTSTART:20270312T200000
SEQUENCE:0
CREATED:20260217T154136
LAST-MODIFIED:20260217T154136
TRANSP:OPAQUE
DTEND:20270312T000000
LOCATION:Sternensaal Bümpliz
SUMMARY:Lapsus - Ego!
CLASS:PUBLIC
DESCRIPTION:
ORGANIZER:
DTSTAMP:20260419T214439
ATTACH:https://www.hinto.ch/de/events/lapsus-ego!-12-03-2027-2000-sternensaal-buempliz-bern-e2689039-20.html
END:VEVENT
END:VCALENDAR
