BEGIN:VCALENDAR
VERSION:2.0
PRODID:hinto.net
X-PUBLISHED-TTL:P1W
BEGIN:VEVENT
UID:hinto.net-event_show-6925248
DTSTART:20260711T193000
SEQUENCE:0
CREATED:20260419T052104
LAST-MODIFIED:20260419T052104
TRANSP:OPAQUE
DTEND:20260711T232000
LOCATION:
SUMMARY:Latinoboat
CLASS:PUBLIC
DESCRIPTION:
ORGANIZER:
DTSTAMP:20260420T045329
ATTACH:https://www.hinto.ch/de/events/latinoboat-11-07-2026-1930-rorschach-e2847361-20.html
END:VEVENT
END:VCALENDAR
