BEGIN:VCALENDAR
VERSION:2.0
PRODID:hinto.net
X-PUBLISHED-TTL:P1W
BEGIN:VEVENT
UID:hinto.net-event_show-6903917
DTSTART:20260417T210000
SEQUENCE:0
CREATED:20260411T114647
LAST-MODIFIED:20260411T114647
TRANSP:OPAQUE

LOCATION:Le Singe
SUMMARY:Les Residenz: Beispiel : Wasser
CLASS:PUBLIC
DESCRIPTION:
ORGANIZER:
DTSTAMP:20260421T065923
ATTACH:https://www.hinto.ch/de/events/les-residenz-beispiel-wasser-17-04-2026-2100-le-singe-bielbienne-e2829142-20.html
END:VEVENT
END:VCALENDAR
