BEGIN:VCALENDAR
VERSION:2.0
PRODID:hinto.net
X-PUBLISHED-TTL:P1W
BEGIN:VEVENT
UID:hinto.net-event_show-6909357
DTSTART:20260626T190000
SEQUENCE:0
CREATED:20260414T032751
LAST-MODIFIED:20260414T032751
TRANSP:OPAQUE

LOCATION:Haffterpark
SUMMARY:Lesung mit Anna Rosenwasser
CLASS:PUBLIC
DESCRIPTION:
ORGANIZER:
DTSTAMP:20260420T224951
ATTACH:https://www.hinto.ch/de/events/lesung-mit-anna-rosenwasser-26-06-2026-1900-haffterpark-weinfelden-e2834132-20.html
END:VEVENT
END:VCALENDAR
