BEGIN:VCALENDAR
VERSION:2.0
PRODID:hinto.net
X-PUBLISHED-TTL:P1W
BEGIN:VEVENT
UID:hinto.net-event_show-6826502
DTSTART:20270314T110000
SEQUENCE:0
CREATED:20260318T050954
LAST-MODIFIED:20260318T050954
TRANSP:OPAQUE
DTEND:20270314T133000
LOCATION:Liberty Cinema
SUMMARY:Live-Vortrag: Botswana und Namibia
CLASS:PUBLIC
DESCRIPTION:
ORGANIZER:
DTSTAMP:20260424T043204
ATTACH:https://www.hinto.ch/de/events/live-vortrag-botswana-und-namibia-14-03-2027-1100-liberty-cinema-weinfelden-e2762676-20.html
END:VEVENT
END:VCALENDAR
