BEGIN:VCALENDAR
VERSION:2.0
PRODID:hinto.net
X-PUBLISHED-TTL:P1W
BEGIN:VEVENT
UID:hinto.net-event_show-6933554
DTSTART:20260425T203000
SEQUENCE:0
CREATED:20260422T052507
LAST-MODIFIED:20260422T052507
TRANSP:OPAQUE

LOCATION:Werkhof Egelsee
SUMMARY:Living Room Stranger
CLASS:PUBLIC
DESCRIPTION:
ORGANIZER:
DTSTAMP:20260425T021558
ATTACH:https://www.hinto.ch/de/events/living-room-stranger-25-04-2026-2030-werkhof-egelsee-bern-e2854515-20.html
END:VEVENT
END:VCALENDAR
