BEGIN:VCALENDAR
VERSION:2.0
PRODID:hinto.net
X-PUBLISHED-TTL:P1W
BEGIN:VEVENT
UID:hinto.net-event_show-6933292
DTSTART:20260515T230000
SEQUENCE:0
CREATED:20260422T052158
LAST-MODIFIED:20260422T052158
TRANSP:OPAQUE
DTEND:20260516T040000
LOCATION:Jade Club
SUMMARY:Ljubav
CLASS:PUBLIC
DESCRIPTION:
ORGANIZER:
DTSTAMP:20260425T024000
ATTACH:https://www.hinto.ch/de/events/ljubav-15-05-2026-2300-jade-club-zuerich-e2854470-20.html
END:VEVENT
END:VCALENDAR
