BEGIN:VCALENDAR
VERSION:2.0
PRODID:hinto.net
X-PUBLISHED-TTL:P1W
BEGIN:VEVENT
UID:hinto.net-event_show-6814930
DTSTART:20260425T190000
SEQUENCE:0
CREATED:20260314T035924
LAST-MODIFIED:20260314T035924
TRANSP:OPAQUE

LOCATION:Z7
SUMMARY:Lord Of The Lost
CLASS:PUBLIC
DESCRIPTION:
ORGANIZER:
DTSTAMP:20260424T080047
ATTACH:https://www.hinto.ch/de/events/lord-of-the-lost-25-04-2026-1900-z7-prattelen-e2753116-20.html
END:VEVENT
END:VCALENDAR
