BEGIN:VCALENDAR
VERSION:2.0
PRODID:hinto.net
X-PUBLISHED-TTL:P1W
BEGIN:VEVENT
UID:hinto.net-event_show-6921851
DTSTART:20260917T190000
SEQUENCE:0
CREATED:20260417T071631
LAST-MODIFIED:20260417T071631
TRANSP:OPAQUE
DTEND:20260917T210000
LOCATION:Hagenhaus
SUMMARY:Los Pitutos  TRÄUME
CLASS:PUBLIC
DESCRIPTION:
ORGANIZER:
DTSTAMP:20260424T072002
ATTACH:https://www.hinto.ch/de/events/los-pitutos-traeume-17-09-2026-1900-hagenhaus-nendeln-e2844630-20.html
END:VEVENT
END:VCALENDAR
