BEGIN:VCALENDAR
VERSION:2.0
PRODID:hinto.net
X-PUBLISHED-TTL:P1W
BEGIN:VEVENT
UID:hinto.net-event_show-6647195
DTSTART:20261209T200000
SEQUENCE:0
CREATED:20260122T085320
LAST-MODIFIED:20260122T085320
TRANSP:OPAQUE
DTEND:20261209T000000
LOCATION:Fauteuil
SUMMARY:Luca Gygli - Observe
CLASS:PUBLIC
DESCRIPTION:
ORGANIZER:
DTSTAMP:20260420T230047
ATTACH:https://www.hinto.ch/de/events/luca-gygli-observe-09-12-2026-2000-fauteuil-basel-e2619184-20.html
END:VEVENT
END:VCALENDAR
