BEGIN:VCALENDAR
VERSION:2.0
PRODID:hinto.net
X-PUBLISHED-TTL:P1W
BEGIN:VEVENT
UID:hinto.net-event_show-6924702
DTSTART:20261206T180000
SEQUENCE:0
CREATED:20260419T051702
LAST-MODIFIED:20260419T051702
TRANSP:OPAQUE
DTEND:20261206T000000
LOCATION:Fauteuil
SUMMARY:Magrée: Magic Moments - Geheimnisse
CLASS:PUBLIC
DESCRIPTION:
ORGANIZER:
DTSTAMP:20260421T083734
ATTACH:https://www.hinto.ch/de/events/magree-magic-moments-geheimnisse-06-12-2026-1800-fauteuil-basel-e2548042-20.html
END:VEVENT
END:VCALENDAR
