BEGIN:VCALENDAR
VERSION:2.0
PRODID:hinto.net
X-PUBLISHED-TTL:P1W
BEGIN:VEVENT
UID:hinto.net-event_show-6948098
DTSTART:20260503T161500
SEQUENCE:0
CREATED:20260424T100158
LAST-MODIFIED:20260424T100158
TRANSP:OPAQUE

LOCATION:Zeughaus Kultur
SUMMARY:Marc Tschanz
CLASS:PUBLIC
DESCRIPTION:
ORGANIZER:
DTSTAMP:20260424T201906
ATTACH:https://www.hinto.ch/de/events/marc-tschanz-03-05-2026-1615-zeughaus-kultur-brig-e2863072-20.html
END:VEVENT
END:VCALENDAR
