BEGIN:VCALENDAR
VERSION:2.0
PRODID:hinto.net
X-PUBLISHED-TTL:P1W
BEGIN:VEVENT
UID:hinto.net-event_show-6485128
DTSTART:20260527T193000
SEQUENCE:0
CREATED:20251129T033407
LAST-MODIFIED:20251129T033407
TRANSP:OPAQUE

LOCATION:Theater am Hechtplatz
SUMMARY:Massimo Rocchi
CLASS:PUBLIC
DESCRIPTION:
ORGANIZER:
DTSTAMP:20260421T074113
ATTACH:https://www.hinto.ch/de/events/massimo-rocchi-27-05-2026-1930-theater-am-hechtplatz-zuerich-e2479626-20.html
END:VEVENT
END:VCALENDAR
