BEGIN:VCALENDAR
VERSION:2.0
PRODID:hinto.net
X-PUBLISHED-TTL:P1W
BEGIN:VEVENT
UID:hinto.net-event_show-6861376
DTSTART:20260430T073000
SEQUENCE:0
CREATED:20260328T221240
LAST-MODIFIED:20260328T221240
TRANSP:OPAQUE
DTEND:20260430T080000
LOCATION:offene kirche bern - in der Heiliggeistkirche
SUMMARY:Meditation am Morgen
CLASS:PUBLIC
DESCRIPTION:
ORGANIZER:
DTSTAMP:20260424T214432
ATTACH:https://www.hinto.ch/de/events/meditation-am-morgen-30-04-2026-0730-offene-kirche-bern-in-der-heiliggeistkirche-bern-e2792133-20.html
END:VEVENT
END:VCALENDAR
