BEGIN:VCALENDAR
VERSION:2.0
PRODID:hinto.net
X-PUBLISHED-TTL:P1W
BEGIN:VEVENT
UID:hinto.net-event_show-6925520
DTSTART:20260530T153000
SEQUENCE:0
CREATED:20260419T052240
LAST-MODIFIED:20260419T052240
TRANSP:OPAQUE

LOCATION:Conrad Sohm
SUMMARY:Metal Rising Vol. 2
CLASS:PUBLIC
DESCRIPTION:
ORGANIZER:
DTSTAMP:20260421T035141
ATTACH:https://www.hinto.ch/de/events/metal-rising-vol-2-30-05-2026-1530-conrad-sohm-dornbirn-e2847561-20.html
END:VEVENT
END:VCALENDAR
