BEGIN:VCALENDAR
VERSION:2.0
PRODID:hinto.net
X-PUBLISHED-TTL:P1W
BEGIN:VEVENT
UID:hinto.net-event_show-6925433
DTSTART:20260603T200000
SEQUENCE:0
CREATED:20260419T052223
LAST-MODIFIED:20260419T052223
TRANSP:OPAQUE

LOCATION:Casinotheater Winterthur
SUMMARY:Michael Fehr
CLASS:PUBLIC
DESCRIPTION:
ORGANIZER:
DTSTAMP:20260420T192943
ATTACH:https://www.hinto.ch/de/events/michael-fehr-03-06-2026-2000-casinotheater-winterthur-winterthur-e2847497-20.html
END:VEVENT
END:VCALENDAR
