BEGIN:VCALENDAR
VERSION:2.0
PRODID:hinto.net
X-PUBLISHED-TTL:P1W
BEGIN:VEVENT
UID:hinto.net-event_show-6776831
DTSTART:20270226T200000
SEQUENCE:0
CREATED:20260306T065702
LAST-MODIFIED:20260306T065702
TRANSP:OPAQUE
DTEND:20270226T220000
LOCATION:Gemeindezentrum «Dreiklang»
SUMMARY:MICHEL GAMMENTHALER
CLASS:PUBLIC
DESCRIPTION:
ORGANIZER:
DTSTAMP:20260424T043147
ATTACH:https://www.hinto.ch/de/events/michel-gammenthaler-26-02-2027-2000-gemeindezentrum-ldreiklangr-steinhausen-e2715797-20.html
END:VEVENT
END:VCALENDAR
