BEGIN:VCALENDAR
VERSION:2.0
PRODID:hinto.net
X-PUBLISHED-TTL:P1W
BEGIN:VEVENT
UID:hinto.net-event_show-6536550
DTSTART:20260510T170000
SEQUENCE:0
CREATED:20251217T070729
LAST-MODIFIED:20251217T070729
TRANSP:OPAQUE
DTEND:20260510T183000
LOCATION:Evang.-ref. Kirche Amriswil
SUMMARY:Mozart - Krönungsmesse
CLASS:PUBLIC
DESCRIPTION:
ORGANIZER:
DTSTAMP:20260424T135939
ATTACH:https://www.hinto.ch/de/events/mozart-kroenungsmesse-10-05-2026-1700-evang-ref-kirche-amriswil-amriswil-e2524155-20.html
END:VEVENT
END:VCALENDAR
