BEGIN:VCALENDAR
VERSION:2.0
PRODID:hinto.net
X-PUBLISHED-TTL:P1W
BEGIN:VEVENT
UID:hinto.net-event_show-6777071
DTSTART:20270423T200000
SEQUENCE:0
CREATED:20260306T065725
LAST-MODIFIED:20260306T065725
TRANSP:OPAQUE
DTEND:20270423T000000
LOCATION:Theater Uri
SUMMARY:MUMMENSCHANZ - Adieu!
CLASS:PUBLIC
DESCRIPTION:
ORGANIZER:
DTSTAMP:20260424T054610
ATTACH:https://www.hinto.ch/de/events/mummenschanz-adieu!-23-04-2027-2000-theater-uri-altdorf-ur-e2732217-20.html
END:VEVENT
END:VCALENDAR
