BEGIN:VCALENDAR
VERSION:2.0
PRODID:hinto.net
X-PUBLISHED-TTL:P1W
BEGIN:VEVENT
UID:hinto.net-event_show-6777072
DTSTART:20260510T081500
SEQUENCE:0
CREATED:20260306T065725
LAST-MODIFIED:20260306T065725
TRANSP:OPAQUE
DTEND:20260510T163000
LOCATION:Drehrestaurant Rondorama
SUMMARY:Muttertag auf dem Stanserhorn
CLASS:PUBLIC
DESCRIPTION:
ORGANIZER:
DTSTAMP:20260421T071744
ATTACH:https://www.hinto.ch/de/events/muttertag-auf-dem-stanserhorn-10-05-2026-0815-drehrestaurant-rondorama-stans-e2732218-20.html
END:VEVENT
END:VCALENDAR
