BEGIN:VCALENDAR
VERSION:2.0
PRODID:hinto.net
X-PUBLISHED-TTL:P1W
BEGIN:VEVENT
UID:hinto.net-event_show-6924868
DTSTART:20260508T200000
SEQUENCE:0
CREATED:20260419T051916
LAST-MODIFIED:20260419T051916
TRANSP:OPAQUE

LOCATION:Campo Al Ponte
SUMMARY:New York Wannabees
CLASS:PUBLIC
DESCRIPTION:
ORGANIZER:
DTSTAMP:20260421T091407
ATTACH:https://www.hinto.ch/de/events/new-york-wannabees-08-05-2026-2000-campo-al-ponte-claro-e2847176-20.html
END:VEVENT
END:VCALENDAR
