BEGIN:VCALENDAR
VERSION:2.0
PRODID:hinto.net
X-PUBLISHED-TTL:P1W
BEGIN:VEVENT
UID:hinto.net-event_show-6863825
DTSTART:20260419T193000
SEQUENCE:0
CREATED:20260329T155903
LAST-MODIFIED:20260329T155903
TRANSP:OPAQUE
DTEND:20260419T195500
LOCATION:
SUMMARY:Nickelodeon / CC: Die Thundermans: Undercover
CLASS:PUBLIC
DESCRIPTION:
ORGANIZER:
DTSTAMP:20260420T053023
ATTACH:https://www.hinto.ch/de/events/nickelodeon-cc-die-thundermans-undercover-19-04-2026-1930-e2794441-20.html
END:VEVENT
END:VCALENDAR
