BEGIN:VCALENDAR
VERSION:2.0
PRODID:hinto.net
X-PUBLISHED-TTL:P1W
BEGIN:VEVENT
UID:hinto.net-event_show-6925684
DTSTART:20260516T130000
SEQUENCE:0
CREATED:20260419T052311
LAST-MODIFIED:20260419T052311
TRANSP:OPAQUE
DTEND:20260516T153000
LOCATION:Samariterverein Urdorf
SUMMARY:Notfälle bei Kleinkindern
CLASS:PUBLIC
DESCRIPTION:
ORGANIZER:
DTSTAMP:20260424T070540
ATTACH:https://www.hinto.ch/de/events/notfaelle-bei-kleinkindern-16-05-2026-1300-samariterverein-urdorf-urdorf-e2847637-20.html
END:VEVENT
END:VCALENDAR
