BEGIN:VCALENDAR
VERSION:2.0
PRODID:hinto.net
X-PUBLISHED-TTL:P1W
BEGIN:VEVENT
UID:hinto.net-event_show-6876709
DTSTART:20260502T081500
SEQUENCE:0
CREATED:20260402T093809
LAST-MODIFIED:20260402T093809
TRANSP:OPAQUE
DTEND:20260502T164500
LOCATION:Samariterverein Münsingen
SUMMARY:Notfälle Kinder 5 – 15
CLASS:PUBLIC
DESCRIPTION:
ORGANIZER:
DTSTAMP:20260424T053350
ATTACH:https://www.hinto.ch/de/events/notfaelle-kinder-5-n-15-02-05-2026-0815-samariterverein-muensingen-muensingen-e2804896-20.html
END:VEVENT
END:VCALENDAR
