BEGIN:VCALENDAR
VERSION:2.0
PRODID:hinto.net
X-PUBLISHED-TTL:P1W
BEGIN:VEVENT
UID:hinto.net-event_show-6925218
DTSTART:20260509T100000
SEQUENCE:0
CREATED:20260419T052049
LAST-MODIFIED:20260419T052049
TRANSP:OPAQUE
DTEND:20260509T170000
LOCATION:ganz Liestal
SUMMARY:Offene Ateliers Liestal
CLASS:PUBLIC
DESCRIPTION:
ORGANIZER:
DTSTAMP:20260419T232602
ATTACH:https://www.hinto.ch/de/events/offene-ateliers-liestal-09-05-2026-1000-ganz-liestal-liestal-e2847346-20.html
END:VEVENT
END:VCALENDAR
