BEGIN:VCALENDAR
VERSION:2.0
PRODID:hinto.net
X-PUBLISHED-TTL:P1W
BEGIN:VEVENT
UID:hinto.net-event_show-6707064
DTSTART:20260616T170000
SEQUENCE:0
CREATED:20260211T193540
LAST-MODIFIED:20260211T193540
TRANSP:OPAQUE
DTEND:20260616T191500
LOCATION:Campo Al Ponte
SUMMARY:Online-Infoanlass Weiterbildung
CLASS:PUBLIC
DESCRIPTION:
ORGANIZER:
DTSTAMP:20260420T223606
ATTACH:https://www.hinto.ch/de/events/online-infoanlass-weiterbildung-16-06-2026-1700-campo-al-ponte-claro-e2673057-20.html
END:VEVENT
END:VCALENDAR
