BEGIN:VCALENDAR
VERSION:2.0
PRODID:hinto.net
X-PUBLISHED-TTL:P1W
BEGIN:VEVENT
UID:hinto.net-event_show-6862812
DTSTART:20260419T161500
SEQUENCE:0
CREATED:20260329T151025
LAST-MODIFIED:20260329T151025
TRANSP:OPAQUE
DTEND:20260419T162500
LOCATION:
SUMMARY:ORF 1: Eishockey ICE Hockey League 2025/2026: Finale 3 Moser Medical Graz 99ers - Falkensteiner Pustertal
CLASS:PUBLIC
DESCRIPTION:
ORGANIZER:
DTSTAMP:20260419T232159
ATTACH:https://www.hinto.ch/de/events/orf-1-eishockey-ice-hockey-league-20252026-finale-3-moser-medical-graz-99ers-falkensteiner-pustertal-19-04-2026-1615-e2793428-20.html
END:VEVENT
END:VCALENDAR
