BEGIN:VCALENDAR
VERSION:2.0
PRODID:hinto.net
X-PUBLISHED-TTL:P1W
BEGIN:VEVENT
UID:hinto.net-event_show-6862851
DTSTART:20260419T191700
SEQUENCE:0
CREATED:20260329T151223
LAST-MODIFIED:20260329T151223
TRANSP:OPAQUE
DTEND:20260419T193000
LOCATION:
SUMMARY:ORF 2: Lotto 6 aus 45 mit Joker
CLASS:PUBLIC
DESCRIPTION:
ORGANIZER:
DTSTAMP:20260420T141420
ATTACH:https://www.hinto.ch/de/events/orf-2-lotto-6-aus-45-mit-joker-19-04-2026-1917-e2793467-20.html
END:VEVENT
END:VCALENDAR
