BEGIN:VCALENDAR
VERSION:2.0
PRODID:hinto.net
X-PUBLISHED-TTL:P1W
BEGIN:VEVENT
UID:hinto.net-event_show-6862852
DTSTART:20260419T193000
SEQUENCE:0
CREATED:20260329T151224
LAST-MODIFIED:20260329T151224
TRANSP:OPAQUE
DTEND:20260419T195100
LOCATION:
SUMMARY:ORF 2: Zeit im Bild
CLASS:PUBLIC
DESCRIPTION:
ORGANIZER:
DTSTAMP:20260420T050018
ATTACH:https://www.hinto.ch/de/events/orf-2-zeit-im-bild-19-04-2026-1930-e2793468-20.html
END:VEVENT
END:VCALENDAR
