BEGIN:VCALENDAR
VERSION:2.0
PRODID:hinto.net
X-PUBLISHED-TTL:P1W
BEGIN:VEVENT
UID:hinto.net-event_show-6787662
DTSTART:20260417T181500
SEQUENCE:0
CREATED:20260310T031348
LAST-MODIFIED:20260310T031348
TRANSP:OPAQUE
DTEND:20260417T184500
LOCATION:Leonhardskirche
SUMMARY:Orgelspiel zum Feierabend
CLASS:PUBLIC
DESCRIPTION:
ORGANIZER:
DTSTAMP:20260419T202948
ATTACH:https://www.hinto.ch/de/events/orgelspiel-zum-feierabend-17-04-2026-1815-leonhardskirche-basel-e1045232-20.html
END:VEVENT
END:VCALENDAR
