BEGIN:VCALENDAR
VERSION:2.0
PRODID:hinto.net
X-PUBLISHED-TTL:P1W
BEGIN:VEVENT
UID:hinto.net-event_show-6273986
DTSTART:20260519T200000
SEQUENCE:0
CREATED:20250919T171952
LAST-MODIFIED:20250919T171952
TRANSP:OPAQUE
DTEND:20260519T220000
LOCATION:Fauteuil
SUMMARY:Peach Weber - King of Gäx
CLASS:PUBLIC
DESCRIPTION:
ORGANIZER:
DTSTAMP:20260421T074015
ATTACH:https://www.hinto.ch/de/events/peach-weber-king-of-gaex-19-05-2026-2000-fauteuil-basel-e2299327-20.html
END:VEVENT
END:VCALENDAR
