BEGIN:VCALENDAR
VERSION:2.0
PRODID:hinto.net
X-PUBLISHED-TTL:P1W
BEGIN:VEVENT
UID:hinto.net-event_show-6688115
DTSTART:20260423T200000
SEQUENCE:0
CREATED:20260205T022032
LAST-MODIFIED:20260205T022032
TRANSP:OPAQUE
DTEND:20260423T000000
LOCATION:Gemeindesaal Männedorf
SUMMARY:Peach Weber - King of Gäx
CLASS:PUBLIC
DESCRIPTION:
ORGANIZER:
DTSTAMP:20260420T195920
ATTACH:https://www.hinto.ch/de/events/peach-weber-king-of-gaex-23-04-2026-2000-gemeindesaal-maennedorf-maennedorf-e2655902-20.html
END:VEVENT
END:VCALENDAR
