BEGIN:VCALENDAR
VERSION:2.0
PRODID:hinto.net
X-PUBLISHED-TTL:P1W
BEGIN:VEVENT
UID:hinto.net-event_show-6826278
DTSTART:20260510T180000
SEQUENCE:0
CREATED:20260318T050639
LAST-MODIFIED:20260318T050639
TRANSP:OPAQUE
DTEND:20260510T203000
LOCATION:Theater Uri
SUMMARY:Pippo Pollina
CLASS:PUBLIC
DESCRIPTION:
ORGANIZER:
DTSTAMP:20260420T225358
ATTACH:https://www.hinto.ch/de/events/pippo-pollina-10-05-2026-1800-theater-uri-altdorf-ur-e2762620-20.html
END:VEVENT
END:VCALENDAR
