BEGIN:VCALENDAR
VERSION:2.0
PRODID:hinto.net
X-PUBLISHED-TTL:P1W
BEGIN:VEVENT
UID:hinto.net-event_show-6912495
DTSTART:20260429T194500
SEQUENCE:0
CREATED:20260415T030604
LAST-MODIFIED:20260415T030604
TRANSP:OPAQUE

LOCATION:Les Scala
SUMMARY:Première EN TERRAIN NEUTRE
CLASS:PUBLIC
DESCRIPTION:
ORGANIZER:
DTSTAMP:20260421T091344
ATTACH:https://www.hinto.ch/de/events/premiere-en-terrain-neutre-29-04-2026-1945-les-scala-geneve-e2836528-20.html
END:VEVENT
END:VCALENDAR
