BEGIN:VCALENDAR
VERSION:2.0
PRODID:hinto.net
X-PUBLISHED-TTL:P1W
BEGIN:VEVENT
UID:hinto.net-event_show-6924797
DTSTART:20260522T193000
SEQUENCE:0
CREATED:20260419T051743
LAST-MODIFIED:20260419T051743
TRANSP:OPAQUE
DTEND:20260522T230000
LOCATION:Schweizerische Bodensee-Schifffahrt AG
SUMMARY:Pride Boat
CLASS:PUBLIC
DESCRIPTION:
ORGANIZER:
DTSTAMP:20260419T210428
ATTACH:https://www.hinto.ch/de/events/pride-boat-22-05-2026-1930-schweizerische-bodensee-schifffahrt-ag-romanshorn-e2844749-20.html
END:VEVENT
END:VCALENDAR
