BEGIN:VCALENDAR
VERSION:2.0
PRODID:hinto.net
X-PUBLISHED-TTL:P1W
BEGIN:VEVENT
UID:hinto.net-event_show-6867483
DTSTART:20260419T163500
SEQUENCE:0
CREATED:20260331T202200
LAST-MODIFIED:20260331T202200
TRANSP:OPAQUE
DTEND:20260419T170500
LOCATION:
SUMMARY:Puls 8: Die Super-Makler - Top oder Flop?
CLASS:PUBLIC
DESCRIPTION:
ORGANIZER:
DTSTAMP:20260420T051923
ATTACH:https://www.hinto.ch/de/events/puls-8-die-super-makler-top-oder-flop-19-04-2026-1635-e2797451-20.html
END:VEVENT
END:VCALENDAR
