BEGIN:VCALENDAR
VERSION:2.0
PRODID:hinto.net
X-PUBLISHED-TTL:P1W
BEGIN:VEVENT
UID:hinto.net-event_show-6867480
DTSTART:20260419T151000
SEQUENCE:0
CREATED:20260331T202157
LAST-MODIFIED:20260331T202157
TRANSP:OPAQUE
DTEND:20260419T154000
LOCATION:
SUMMARY:Puls 8: How I Met Your Mother
CLASS:PUBLIC
DESCRIPTION:
ORGANIZER:
DTSTAMP:20260419T192935
ATTACH:https://www.hinto.ch/de/events/puls-8-how-i-met-your-mother-19-04-2026-1510-e2797448-20.html
END:VEVENT
END:VCALENDAR
