BEGIN:VCALENDAR
VERSION:2.0
PRODID:hinto.net
X-PUBLISHED-TTL:P1W
BEGIN:VEVENT
UID:hinto.net-event_show-5308897
DTSTART:20271205T100000
SEQUENCE:0
CREATED:20241205T065358
LAST-MODIFIED:20241205T065358
TRANSP:OPAQUE
DTEND:20271205T170000
LOCATION:Schweizer Kindermuseum
SUMMARY:Rakete, Mond und Sterne
CLASS:PUBLIC
DESCRIPTION:
ORGANIZER:
DTSTAMP:20260424T094258
ATTACH:https://www.hinto.ch/de/events/rakete-mond-und-sterne-05-12-2027-1000-schweizer-kindermuseum-baden-e72056-20.html
END:VEVENT
END:VCALENDAR
