BEGIN:VCALENDAR
VERSION:2.0
PRODID:hinto.net
X-PUBLISHED-TTL:P1W
BEGIN:VEVENT
UID:hinto.net-event_show-5345380
DTSTART:20271212T100000
SEQUENCE:0
CREATED:20241212T051844
LAST-MODIFIED:20241212T051844
TRANSP:OPAQUE
DTEND:20271212T170000
LOCATION:Schweizer Kindermuseum
SUMMARY:Rakete, Mond und Sterne
CLASS:PUBLIC
DESCRIPTION:
ORGANIZER:
DTSTAMP:20260424T070822
ATTACH:https://www.hinto.ch/de/events/rakete-mond-und-sterne-12-12-2027-1000-schweizer-kindermuseum-baden-e72056-20.html
END:VEVENT
END:VCALENDAR
