BEGIN:VCALENDAR
VERSION:2.0
PRODID:hinto.net
X-PUBLISHED-TTL:P1W
BEGIN:VEVENT
UID:hinto.net-event_show-5271924
DTSTART:20271126T140000
SEQUENCE:0
CREATED:20241126T104347
LAST-MODIFIED:20241126T104347
TRANSP:OPAQUE
DTEND:20271126T170000
LOCATION:Schweizer Kindermuseum
SUMMARY:Rakete, Mond und Sterne
CLASS:PUBLIC
DESCRIPTION:
ORGANIZER:
DTSTAMP:20260424T113108
ATTACH:https://www.hinto.ch/de/events/rakete-mond-und-sterne-26-11-2027-1400-schweizer-kindermuseum-baden-e72056-20.html
END:VEVENT
END:VCALENDAR
